BEGIN:VCALENDAR
VERSION:2.0
PRODID:spatie/icalendar-generator
DESCRIPTION:Veranstaltungen von ZWAR - Wipperfürth
X-WR-CALDESC:Veranstaltungen von ZWAR - Wipperfürth
REFRESH-INTERVAL;VALUE=DURATION:PT1440M
X-PUBLISHED-TTL:PT1440M
BEGIN:VTIMEZONE
TZID:Etc/GMT+0
BEGIN:STANDARD
DTSTART:20230612T190000Z
TZOFFSETFROM:+0000
TZOFFSETTO:+0000
END:STANDARD
END:VTIMEZONE
BEGIN:VTIMEZONE
TZID:UTC
BEGIN:STANDARD
DTSTART:20250725T122416Z
TZOFFSETFROM:+0000
TZOFFSETTO:+0000
END:STANDARD
END:VTIMEZONE
BEGIN:VEVENT
UID:512-71
DTSTAMP:20260421T122416Z
SUMMARY:Gesellschaftsspiele
LOCATION:Haus der Familie Klosterplatz 2  Wipperfürth  51688
ORGANIZER;CN=RolfNi:MAILTO:rolfnigbur@gmail.com
DTSTART;TZID=Etc/GMT+0:20240308T190000
DTEND;TZID=Etc/GMT+0:20240308T220000
X-ALT-DESC;FMTTYPE=TEXT/HTML:<p>Haus der Familie\, einmal monatlich zwische
 n 19:00 und 22:00 Uhr. Termine in 2024: 19.01.\, 09.02.\, 08.03.\, 12.04.\
 , 10.05. 07.06.\, 05.07.\, 23.08.<br />\nWeiteres im Programmheft (zum Auf
 ruf auf diesen Text tippen) von \"Haus der Familie\" unter Kapitel ELTERN
 –KIND–KREATIVITÄT\, Wipperfürth spielt\,<br />\nSpieletreff im Haus 
 der Familie</p>\n
CATEGORIES:Gesellschaftsspiele
URL;VALUE=URI:https://zwar-wipp.de/mc-events/gesellschaftsspiele-21/
METHOD:PUBLISH
END:VEVENT
END:VCALENDAR