BEGIN:VCALENDAR
VERSION:2.0
PRODID:spatie/icalendar-generator
DESCRIPTION:Veranstaltungen von ZWAR - Wipperfürth
X-WR-CALDESC:Veranstaltungen von ZWAR - Wipperfürth
REFRESH-INTERVAL;VALUE=DURATION:PT1440M
X-PUBLISHED-TTL:PT1440M
BEGIN:VTIMEZONE
TZID:Etc/GMT+0
BEGIN:STANDARD
DTSTART:20250609T190000Z
TZOFFSETFROM:+0000
TZOFFSETTO:+0000
END:STANDARD
END:VTIMEZONE
BEGIN:VTIMEZONE
TZID:UTC
BEGIN:STANDARD
DTSTART:20250727T082037Z
TZOFFSETFROM:+0000
TZOFFSETTO:+0000
END:STANDARD
END:VTIMEZONE
BEGIN:VEVENT
UID:620-142
DTSTAMP:20260423T082037Z
SUMMARY:Gesellschaftsspiele
LOCATION:Haus der Familie Klosterplatz 2  Wipperfürth  51688
ORGANIZER;CN=RolfNi:MAILTO:rolfnigbur@gmail.com
DTSTART;TZID=Etc/GMT+0:20260306T190000
DTEND;TZID=Etc/GMT+0:20260306T220000
X-ALT-DESC;FMTTYPE=TEXT/HTML:<p>Haus der Familie\, einmal monatlich zwische
 n 19:00 und 22:00 Uhr. Termine in 2025: 17.01.\, 14.02.\, 14.03.\, 11.04.\
 , 09.05.\, 13.06.\, 11.07.\, 19.09.\, 10.10.\,<br />\n14.11.\, 12.12. Weit
 eres im Programmheft (zum Aufruf auf diesen Text tippen) von \"Haus der Fa
 milie\" unter Kapitel LEBEN MIT KINDERN\,<br />\nELTERN–KIND –KREATIVI
 TÄT\, Wipperfürth spielt\, Spieletreff im Haus der Familie</p>\n
CATEGORIES:Gesellschaftsspiele
URL;VALUE=URI:https://zwar-wipp.de/mc-events/gesellschaftsspiele-43/
METHOD:PUBLISH
END:VEVENT
END:VCALENDAR